BEGIN:VCALENDAR
VERSION:2.0
METHOD:PUBLISH
PRODID:-//hacksw/handcal//NONSGML v1.0//EN
BEGIN:VEVENT
DTSTAMP:20260421T232304Z
DTSTART;VALUE=DATE:20260424
DTEND;VALUE=DATE:20260425
UID:20260423T220000Z-20260424T215959Z-290@www.freimaurer.berlin
SUMMARY:Gästeabend wir wollen über Der freie Wille diskutieren.
DESCRIPTION:
X-ALT-DESC;FMTTYPE=text/html:
URL:https://www.freimaurer.berlin/events/gaesteabend-wir-wollen-ueber-
 der-freie-wille-diskutieren?lang=de
ATTACH:https://www.freimaurer.berlin/events/gaesteabend-wir-wollen-ueb
 er-der-freie-wille-diskutieren?lang=de
END:VEVENT
END:VCALENDAR
