BEGIN:VCALENDAR
VERSION:2.0
METHOD:PUBLISH
PRODID:-//hacksw/handcal//NONSGML v1.0//EN
BEGIN:VEVENT
DTSTAMP:20260421T232724Z
DTSTART;VALUE=DATE:20260417
DTEND;VALUE=DATE:20260418
UID:20260416T220000Z-20260417T215959Z-293@www.freimaurer.berlin
SUMMARY:TAI Vortragsthema folgt.
DESCRIPTION:
X-ALT-DESC;FMTTYPE=text/html:
URL:https://www.freimaurer.berlin/events/tai-vortragsthema-folgt-2?lan
 g=de
ATTACH:https://www.freimaurer.berlin/events/tai-vortragsthema-folgt-2?
 lang=de
END:VEVENT
END:VCALENDAR
